Workbook

Sheet Packs
A1: Client | B1: Pack | C1: Classes in pack | D1: Start date | E1: Expiry date | F1: Used | G1: Remaining | H1: Notes
A2: Sample Client A (delete) | B2: 8 class reformer pack | C2: 8 | D2: 46296 | E2: 46356 | F2: =IF(A2="","",COUNTIFS('Classes'!$C:$C,A2,'Classes'!$D:$D,B2,'Classes'!$F:$F,"<>Early cancel",'Classes'!$F:$F,"<>")) | G2: =IF(A2="","",C2-F2)
A3: Sample Client B (delete) | B3: 12 class clinical pilates pack | C3: 12 | D3: 46296 | E3: 46386 | F3: =IF(A3="","",COUNTIFS('Classes'!$C:$C,A3,'Classes'!$D:$D,B3,'Classes'!$F:$F,"<>Early cancel",'Classes'!$F:$F,"<>")) | G3: =IF(A3="","",C3-F3)
F4: =IF(A4="","",COUNTIFS('Classes'!$C:$C,A4,'Classes'!$D:$D,B4,'Classes'!$F:$F,"<>Early cancel",'Classes'!$F:$F,"<>")) | G4: =IF(A4="","",C4-F4)
F5: =IF(A5="","",COUNTIFS('Classes'!$C:$C,A5,'Classes'!$D:$D,B5,'Classes'!$F:$F,"<>Early cancel",'Classes'!$F:$F,"<>")) | G5: =IF(A5="","",C5-F5)
F6: =IF(A6="","",COUNTIFS('Classes'!$C:$C,A6,'Classes'!$D:$D,B6,'Classes'!$F:$F,"<>Early cancel",'Classes'!$F:$F,"<>")) | G6: =IF(A6="","",C6-F6)
F7: =IF(A7="","",COUNTIFS('Classes'!$C:$C,A7,'Classes'!$D:$D,B7,'Classes'!$F:$F,"<>Early cancel",'Classes'!$F:$F,"<>")) | G7: =IF(A7="","",C7-F7)
F8: =IF(A8="","",COUNTIFS('Classes'!$C:$C,A8,'Classes'!$D:$D,B8,'Classes'!$F:$F,"<>Early cancel",'Classes'!$F:$F,"<>")) | G8: =IF(A8="","",C8-F8)
F9: =IF(A9="","",COUNTIFS('Classes'!$C:$C,A9,'Classes'!$D:$D,B9,'Classes'!$F:$F,"<>Early cancel",'Classes'!$F:$F,"<>")) | G9: =IF(A9="","",C9-F9)
F10: =IF(A10="","",COUNTIFS('Classes'!$C:$C,A10,'Classes'!$D:$D,B10,'Classes'!$F:$F,"<>Early cancel",'Classes'!$F:$F,"<>")) | G10: =IF(A10="","",C10-F10)
F11: =IF(A11="","",COUNTIFS('Classes'!$C:$C,A11,'Classes'!$D:$D,B11,'Classes'!$F:$F,"<>Early cancel",'Classes'!$F:$F,"<>")) | G11: =IF(A11="","",C11-F11)
F12: =IF(A12="","",COUNTIFS('Classes'!$C:$C,A12,'Classes'!$D:$D,B12,'Classes'!$F:$F,"<>Early cancel",'Classes'!$F:$F,"<>")) | G12: =IF(A12="","",C12-F12)
F13: =IF(A13="","",COUNTIFS('Classes'!$C:$C,A13,'Classes'!$D:$D,B13,'Classes'!$F:$F,"<>Early cancel",'Classes'!$F:$F,"<>")) | G13: =IF(A13="","",C13-F13)
F14: =IF(A14="","",COUNTIFS('Classes'!$C:$C,A14,'Classes'!$D:$D,B14,'Classes'!$F:$F,"<>Early cancel",'Classes'!$F:$F,"<>")) | G14: =IF(A14="","",C14-F14)
F15: =IF(A15="","",COUNTIFS('Classes'!$C:$C,A15,'Classes'!$D:$D,B15,'Classes'!$F:$F,"<>Early cancel",'Classes'!$F:$F,"<>")) | G15: =IF(A15="","",C15-F15)
... F301: =IF(A301="","",COUNTIFS('Classes'!$C:$C,A301,'Classes'!$D:$D,B301,'Classes'!$F:$F,"<>Early cancel",'Classes'!$F:$F,"<>")) | G301: =IF(A301="","",C301-F301)

Sheet Classes
A1: Date | B1: Time | C1: Client | D1: Pack | E1: Instructor | F1: Status | G1: Came off the pack
A2: 46297 | B2: 0.375 | C2: Sample Client A (delete) | D2: 8 class reformer pack | E2: Instructor 1 | F2: Attended | G2: =IF(F2="","",IF(F2="Early cancel","No, returned","Yes"))
A3: 46301 | B3: 0.375 | C3: Sample Client A (delete) | D3: 8 class reformer pack | E3: Instructor 1 | F3: Early cancel | G3: =IF(F3="","",IF(F3="Early cancel","No, returned","Yes"))
A4: 46304 | B4: 0.375 | C4: Sample Client A (delete) | D4: 8 class reformer pack | E4: Instructor 1 | F4: Late cancel | G4: =IF(F4="","",IF(F4="Early cancel","No, returned","Yes"))
A5: 46298 | B5: 0.75 | C5: Sample Client B (delete) | D5: 12 class clinical pilates pack | E5: Instructor 2 | F5: Attended | G5: =IF(F5="","",IF(F5="Early cancel","No, returned","Yes"))
A6: 46305 | B6: 0.75 | C6: Sample Client B (delete) | D6: 12 class clinical pilates pack | E6: Instructor 2 | F6: No-show | G6: =IF(F6="","",IF(F6="Early cancel","No, returned","Yes"))
A7: 46319 | B7: 0.75 | C7: Sample Client B (delete) | D7: 12 class clinical pilates pack | E7: Instructor 2 | F7: Booked | G7: =IF(F7="","",IF(F7="Early cancel","No, returned","Yes"))
G8: =IF(F8="","",IF(F8="Early cancel","No, returned","Yes"))
G9: =IF(F9="","",IF(F9="Early cancel","No, returned","Yes"))
G10: =IF(F10="","",IF(F10="Early cancel","No, returned","Yes"))
G11: =IF(F11="","",IF(F11="Early cancel","No, returned","Yes"))
G12: =IF(F12="","",IF(F12="Early cancel","No, returned","Yes"))
G13: =IF(F13="","",IF(F13="Early cancel","No, returned","Yes"))
G14: =IF(F14="","",IF(F14="Early cancel","No, returned","Yes"))
G15: =IF(F15="","",IF(F15="Early cancel","No, returned","Yes"))
G16: =IF(F16="","",IF(F16="Early cancel","No, returned","Yes"))
G17: =IF(F17="","",IF(F17="Early cancel","No, returned","Yes"))
G18: =IF(F18="","",IF(F18="Early cancel","No, returned","Yes"))
G19: =IF(F19="","",IF(F19="Early cancel","No, returned","Yes"))
... G301: =IF(F301="","",IF(F301="Early cancel","No, returned","Yes"))

Sheet How to use
A1: Corenta class pack tracking sheet (free template)
A3: 1. Add one row per pack sold on the Packs sheet. Used and Remaining are formulas; do not type over them.
A4: 2. Add every booking to the Classes sheet. Use exactly the same client and pack name as on the Packs sheet.
A5: 3. Pick the status from the list: Booked, Attended, Early cancel, Late cancel, No-show.
A6: 4. Rule: a class comes off the pack when it is booked. An early cancel goes back on the pack.
A7: Late cancels and no-shows come off the pack. If your studio returns late cancels, mark that row as Early cancel.
A8: 5. When Remaining drops to 1 or below the cell is highlighted; talk to the client about a new pack.
A10: People in the sample rows are fictional; delete them before use.
A11: Client details are personal data; do not share the file through a public link. Do not put health information in this file.
A12: This template is not legal or financial advice.
A14: When the spreadsheet stops being enough: corenta.app/en/templates/session-tracking-sheet
